BEGIN:VCALENDAR
VERSION:2.0
PRODID:-//Bibellabor - ECPv6.15.20//NONSGML v1.0//EN
CALSCALE:GREGORIAN
METHOD:PUBLISH
X-WR-CALNAME:Bibellabor
X-ORIGINAL-URL:https://bibellabor.at
X-WR-CALDESC:Veranstaltungen für Bibellabor
REFRESH-INTERVAL;VALUE=DURATION:PT1H
X-Robots-Tag:noindex
X-PUBLISHED-TTL:PT1H
BEGIN:VTIMEZONE
TZID:Europe/Vienna
BEGIN:DAYLIGHT
TZOFFSETFROM:+0100
TZOFFSETTO:+0200
TZNAME:CEST
DTSTART:20140330T010000
END:DAYLIGHT
BEGIN:STANDARD
TZOFFSETFROM:+0200
TZOFFSETTO:+0100
TZNAME:CET
DTSTART:20141026T010000
END:STANDARD
BEGIN:DAYLIGHT
TZOFFSETFROM:+0100
TZOFFSETTO:+0200
TZNAME:CEST
DTSTART:20150329T010000
END:DAYLIGHT
BEGIN:STANDARD
TZOFFSETFROM:+0200
TZOFFSETTO:+0100
TZNAME:CET
DTSTART:20151025T010000
END:STANDARD
BEGIN:DAYLIGHT
TZOFFSETFROM:+0100
TZOFFSETTO:+0200
TZNAME:CEST
DTSTART:20160327T010000
END:DAYLIGHT
BEGIN:STANDARD
TZOFFSETFROM:+0200
TZOFFSETTO:+0100
TZNAME:CET
DTSTART:20161030T010000
END:STANDARD
END:VTIMEZONE
BEGIN:VEVENT
DTSTART;TZID=Europe/Vienna:20150923T190000
DTEND;TZID=Europe/Vienna:20150923T210000
DTSTAMP:20260423T113718
CREATED:20250630T153928Z
LAST-MODIFIED:20250630T153929Z
UID:10000203-1443034800-1443042000@bibellabor.at
SUMMARY:Bibel liest mich - Der Mensch denkt und Gott lenkt
DESCRIPTION:Es sind oft die wenig beachteten Erzählungen\, die Einblicke in die Absichten Gottes und seinem Wirken erschließen. Das Buch Ester wirft ferner ein besonderes Licht auf die Rolle der Frau\, die mit Klugheit und Besonnenheit großes Leid verhindert. Im kirchlichen Lesejahr liegt der Schwerpunkt auf dem Evangelisten Matthäus. Seine Theologie zeigt sich in den Gleichnissen vom Himmelreich und in der Schilderung vom Tod und der Auferstehung Jesu. \n  \n\n\n\nDienstag \n23.09.25\nJonas Flucht und Rettung\nJona 1 und 2\n\n\nFreitag \n17.10.25\nJonas in Ninive\, sein Groll und Gottes Erbarmen\nJona 2 und 3\n\n\nFreitag \n14.11.25\nEin jüdischer Mann und eine Frau am persischen Hof\nEster 1\,1a – 22\n\n\nFreitag \n12.12.25\nMordechai und Ester \nHamans Plan zur Vernichtung\nEster 2\,1 – 3\,14\n\n\nDienstag \n20.01.26\nEsters Weg zur Rettung ihres Volkes\nEster 4\,1 – 5\,5\n\n\nFreitag \n20.02.26\nEsters zweite Einladung bis zum Purimfest\nEster 5\,6 – 7\,10; \n9\,20-28\n\n\nFreitag \n20.03.26\nGleichnisse: von den klugen und törichten Jungfrauen\, den anvertrauten Talenten und vom Gericht des Menschensohnes\nMt 25\,1 – 46\n\n\nFreitag \n17.04.26\nDer Tod Jesu und die Auferstehung\nMt 27\,45 – 28\,20\n\n\nFreitag \n22.05.26\nDie Stammbäume Jesu\nMt 1\,1-17 \nLk 3\,23-38\n\n\nFreitag \n19.06.26\nDie Sehnsucht des Menschen nach Gott\nPsalm 63\n\n\n\n 
URL:https://bibellabor.at/event/bibel-liest-mich-der-mensch-denkt-und-gott-lenkt-2/
LOCATION:Pfarrzentrum der Pfarre Hard\, Kirchplatz 1\, Hard\, 6971
ATTACH;FMTTYPE=image/jpeg:https://bibellabor.at/wp-content/uploads/2023/07/0778FD5C-E3C8-4412-B0CB-2B1B00FF2EA5-scaled.jpg
ORGANIZER;CN="Erich Baldauf":MAILTO:kontakt@bibellabor.at
END:VEVENT
END:VCALENDAR