BEGIN:VCALENDAR
VERSION:2.0
PRODID:-//Bibellabor - ECPv6.15.20//NONSGML v1.0//EN
CALSCALE:GREGORIAN
METHOD:PUBLISH
X-WR-CALNAME:Bibellabor
X-ORIGINAL-URL:https://bibellabor.at
X-WR-CALDESC:Veranstaltungen für Bibellabor
REFRESH-INTERVAL;VALUE=DURATION:PT1H
X-Robots-Tag:noindex
X-PUBLISHED-TTL:PT1H
BEGIN:VTIMEZONE
TZID:Europe/Vienna
BEGIN:DAYLIGHT
TZOFFSETFROM:+0100
TZOFFSETTO:+0200
TZNAME:CEST
DTSTART:20210328T010000
END:DAYLIGHT
BEGIN:STANDARD
TZOFFSETFROM:+0200
TZOFFSETTO:+0100
TZNAME:CET
DTSTART:20211031T010000
END:STANDARD
BEGIN:DAYLIGHT
TZOFFSETFROM:+0100
TZOFFSETTO:+0200
TZNAME:CEST
DTSTART:20220327T010000
END:DAYLIGHT
BEGIN:STANDARD
TZOFFSETFROM:+0200
TZOFFSETTO:+0100
TZNAME:CET
DTSTART:20221030T010000
END:STANDARD
BEGIN:DAYLIGHT
TZOFFSETFROM:+0100
TZOFFSETTO:+0200
TZNAME:CEST
DTSTART:20230326T010000
END:DAYLIGHT
BEGIN:STANDARD
TZOFFSETFROM:+0200
TZOFFSETTO:+0100
TZNAME:CET
DTSTART:20231029T010000
END:STANDARD
BEGIN:DAYLIGHT
TZOFFSETFROM:+0100
TZOFFSETTO:+0200
TZNAME:CEST
DTSTART:20240331T010000
END:DAYLIGHT
BEGIN:STANDARD
TZOFFSETFROM:+0200
TZOFFSETTO:+0100
TZNAME:CET
DTSTART:20241027T010000
END:STANDARD
END:VTIMEZONE
BEGIN:VEVENT
DTSTART;TZID=Europe/Vienna:20231117T190000
DTEND;TZID=Europe/Vienna:20231117T210000
DTSTAMP:20260426T053001
CREATED:20230719T063858Z
LAST-MODIFIED:20230719T063858Z
UID:10000065-1700247600-1700254800@bibellabor.at
SUMMARY:Bibel quer-lesen
DESCRIPTION:Tomas Halik spricht in seinem Buch „Nachmittag des Christentums“ davon\, dass die Kirche vor einer Transformation steht\, d.h. dass sich die Gestalt der Kirche grundlegend verändern wird. Jemand\, der eine wichtige Transformation des Glaubens geleistet hat\, war der Apostel Paulus. Er ermöglichte den Heiden\, den Hellenisten den Zugang zum Glauben\, in dem er die Beschneidung und viele Reinheitsgesetze von den „Neuen“ nicht länger verlangte. \nMit dem Lesen des Ersten Korintherbriefes wollen wir uns der Theologie des Paulus nähern und uns mit ihm auseinandersetzen. Dazu widmen wir uns an den unterschiedlichen Abenden folgenden Schwerpunkten: \n\n\n\n15. 09. 2023\nSpannungen und Freude aufgemischt\n1 Kor 1\,1-25\n\n\n03.11. 2023\nDie Suche nach dem anderen Geist\n1 Kor 1\,26 – 3\,17\n\n\n17. 11. 2023\nAlles ist mir erlaubt\n1 Kor 5\,1 – 6\,20\n\n\n08. 12. 2023\nWorin liegt Freiheit und Stärke\n1 Kor 8\,1 – 9\,26\n\n\n12. 01. 2024\nDer Grenzgänger Paulus\n1 Kor 10\,1 – 11\,1\n\n\n16. 02. 2024\nDamit das Herrenmahl verbindet\n1 Kor 11\,2-34\n\n\n15. 03. 2024\nJede*r braucht jede*n\n1 Kor 12\,1-31\n\n\n26. 04. 2024\nDer andere Weg\n1 Kor 13\,1-13\n\n\n17. 05. 2024\nEs hält die Gemeinschaft lebendig\n1 Kor 14\,1-37\n\n\n14. 06. 2024\nDie lebendige Kraft des Auferweckten\n1 Kor 15\,1-58\n\n\n\n 
URL:https://bibellabor.at/event/bibel-quer-lesen/2023-11-17/
LOCATION:Haus der Frohbotschaft\, Mädlegasse 6a\, Dornbirn\, 6850\, Österreich
ATTACH;FMTTYPE=image/jpeg:https://bibellabor.at/wp-content/uploads/2023/07/IMG_3401-scaled.jpeg
ORGANIZER;CN="Erich Baldauf":MAILTO:kontakt@bibellabor.at
END:VEVENT
BEGIN:VEVENT
DTSTART;TZID=Europe/Vienna:20231103T190000
DTEND;TZID=Europe/Vienna:20231103T210000
DTSTAMP:20260426T053001
CREATED:20230719T063858Z
LAST-MODIFIED:20230719T063858Z
UID:10000064-1699038000-1699045200@bibellabor.at
SUMMARY:Bibel quer-lesen
DESCRIPTION:Tomas Halik spricht in seinem Buch „Nachmittag des Christentums“ davon\, dass die Kirche vor einer Transformation steht\, d.h. dass sich die Gestalt der Kirche grundlegend verändern wird. Jemand\, der eine wichtige Transformation des Glaubens geleistet hat\, war der Apostel Paulus. Er ermöglichte den Heiden\, den Hellenisten den Zugang zum Glauben\, in dem er die Beschneidung und viele Reinheitsgesetze von den „Neuen“ nicht länger verlangte. \nMit dem Lesen des Ersten Korintherbriefes wollen wir uns der Theologie des Paulus nähern und uns mit ihm auseinandersetzen. Dazu widmen wir uns an den unterschiedlichen Abenden folgenden Schwerpunkten: \n\n\n\n15. 09. 2023\nSpannungen und Freude aufgemischt\n1 Kor 1\,1-25\n\n\n03.11. 2023\nDie Suche nach dem anderen Geist\n1 Kor 1\,26 – 3\,17\n\n\n17. 11. 2023\nAlles ist mir erlaubt\n1 Kor 5\,1 – 6\,20\n\n\n08. 12. 2023\nWorin liegt Freiheit und Stärke\n1 Kor 8\,1 – 9\,26\n\n\n12. 01. 2024\nDer Grenzgänger Paulus\n1 Kor 10\,1 – 11\,1\n\n\n16. 02. 2024\nDamit das Herrenmahl verbindet\n1 Kor 11\,2-34\n\n\n15. 03. 2024\nJede*r braucht jede*n\n1 Kor 12\,1-31\n\n\n26. 04. 2024\nDer andere Weg\n1 Kor 13\,1-13\n\n\n17. 05. 2024\nEs hält die Gemeinschaft lebendig\n1 Kor 14\,1-37\n\n\n14. 06. 2024\nDie lebendige Kraft des Auferweckten\n1 Kor 15\,1-58\n\n\n\n 
URL:https://bibellabor.at/event/bibel-quer-lesen/2023-11-03/
LOCATION:Haus der Frohbotschaft\, Mädlegasse 6a\, Dornbirn\, 6850\, Österreich
ATTACH;FMTTYPE=image/jpeg:https://bibellabor.at/wp-content/uploads/2023/07/IMG_3401-scaled.jpeg
ORGANIZER;CN="Erich Baldauf":MAILTO:kontakt@bibellabor.at
END:VEVENT
BEGIN:VEVENT
DTSTART;TZID=Europe/Vienna:20230915T190000
DTEND;TZID=Europe/Vienna:20230915T210000
DTSTAMP:20260426T053001
CREATED:20230719T063858Z
LAST-MODIFIED:20230719T063858Z
UID:10000063-1694804400-1694811600@bibellabor.at
SUMMARY:Bibel quer-lesen
DESCRIPTION:Tomas Halik spricht in seinem Buch „Nachmittag des Christentums“ davon\, dass die Kirche vor einer Transformation steht\, d.h. dass sich die Gestalt der Kirche grundlegend verändern wird. Jemand\, der eine wichtige Transformation des Glaubens geleistet hat\, war der Apostel Paulus. Er ermöglichte den Heiden\, den Hellenisten den Zugang zum Glauben\, in dem er die Beschneidung und viele Reinheitsgesetze von den „Neuen“ nicht länger verlangte. \nMit dem Lesen des Ersten Korintherbriefes wollen wir uns der Theologie des Paulus nähern und uns mit ihm auseinandersetzen. Dazu widmen wir uns an den unterschiedlichen Abenden folgenden Schwerpunkten: \n\n\n\n15. 09. 2023\nSpannungen und Freude aufgemischt\n1 Kor 1\,1-25\n\n\n03.11. 2023\nDie Suche nach dem anderen Geist\n1 Kor 1\,26 – 3\,17\n\n\n17. 11. 2023\nAlles ist mir erlaubt\n1 Kor 5\,1 – 6\,20\n\n\n08. 12. 2023\nWorin liegt Freiheit und Stärke\n1 Kor 8\,1 – 9\,26\n\n\n12. 01. 2024\nDer Grenzgänger Paulus\n1 Kor 10\,1 – 11\,1\n\n\n16. 02. 2024\nDamit das Herrenmahl verbindet\n1 Kor 11\,2-34\n\n\n15. 03. 2024\nJede*r braucht jede*n\n1 Kor 12\,1-31\n\n\n26. 04. 2024\nDer andere Weg\n1 Kor 13\,1-13\n\n\n17. 05. 2024\nEs hält die Gemeinschaft lebendig\n1 Kor 14\,1-37\n\n\n14. 06. 2024\nDie lebendige Kraft des Auferweckten\n1 Kor 15\,1-58\n\n\n\n 
URL:https://bibellabor.at/event/bibel-quer-lesen/2023-09-15/
LOCATION:Haus der Frohbotschaft\, Mädlegasse 6a\, Dornbirn\, 6850\, Österreich
ATTACH;FMTTYPE=image/jpeg:https://bibellabor.at/wp-content/uploads/2023/07/IMG_3401-scaled.jpeg
ORGANIZER;CN="Erich Baldauf":MAILTO:kontakt@bibellabor.at
END:VEVENT
BEGIN:VEVENT
DTSTART;TZID=Europe/Vienna:20230623T190000
DTEND;TZID=Europe/Vienna:20230623T203000
DTSTAMP:20260426T053001
CREATED:20230127T053516Z
LAST-MODIFIED:20230127T053516Z
UID:10000062-1687546800-1687552200@bibellabor.at
SUMMARY:Bibel quer-lesen: Übersiedlung Jakobs nach Ägypten
DESCRIPTION:Die Söhne Jakobs werden zu den Stammvätern des Volkes Israel. Es ist weit mehr als eine Familiengeschichte. Die Erzählung thematisiert Verletzungen\, Spannungen\, Konflikte\, Versäumnisse\, Traumata und Versöhnung in den Beziehungen einer Familie. Eine besondere Stärke der Erzählung sind die verborgenen Spuren des Wirkens Gottes. Er hat Pläne des Heils und nicht des Unheils.\n\nNeben vielen Themen\, die Geschwisterbeziehungen betreffen\, hat die Erzählung von Josef (Genesis 37\,1 – 47\,26) großen Einfluss auf das biblische Gottesverständnis. \nBei diesem Treffen beschäftigen wir uns mit dem Thema: Übersiedlung Jakobs aus Ägypten aus Gen 45\,16-47\,12.
URL:https://bibellabor.at/event/bibel-quer-lesen-uebersiedlung-jakobs-nach-aegypten/
LOCATION:Haus der Frohbotschaft\, Mädlegasse 6a\, Dornbirn\, 6850\, Österreich
ATTACH;FMTTYPE=image/jpeg:https://bibellabor.at/wp-content/uploads/2022/06/P1030997.jpg
ORGANIZER;CN="Erich Baldauf":MAILTO:kontakt@bibellabor.at
END:VEVENT
BEGIN:VEVENT
DTSTART;TZID=Europe/Vienna:20230526T190000
DTEND;TZID=Europe/Vienna:20230526T203000
DTSTAMP:20260426T053001
CREATED:20230127T053316Z
LAST-MODIFIED:20230127T053316Z
UID:10000061-1685127600-1685133000@bibellabor.at
SUMMARY:Bibel quer-lesen: Josef gibt sich zu erkennen
DESCRIPTION:Die Söhne Jakobs werden zu den Stammvätern des Volkes Israel. Es ist weit mehr als eine Familiengeschichte. Die Erzählung thematisiert Verletzungen\, Spannungen\, Konflikte\, Versäumnisse\, Traumata und Versöhnung in den Beziehungen einer Familie. Eine besondere Stärke der Erzählung sind die verborgenen Spuren des Wirkens Gottes. Er hat Pläne des Heils und nicht des Unheils.\n\nNeben vielen Themen\, die Geschwisterbeziehungen betreffen\, hat die Erzählung von Josef (Genesis 37\,1 – 47\,26) großen Einfluss auf das biblische Gottesverständnis. \nBei diesem Treffen beschäftigen wir uns mit dem Thema: Josef gibt sich zu erkennen aus Gen 45\,1-15.
URL:https://bibellabor.at/event/bibel-quer-lesen-josef-gibt-sich-zu-erkennen/
LOCATION:Haus der Frohbotschaft\, Mädlegasse 6a\, Dornbirn\, 6850\, Österreich
ATTACH;FMTTYPE=image/jpeg:https://bibellabor.at/wp-content/uploads/2022/06/P1030997.jpg
ORGANIZER;CN="Erich Baldauf":MAILTO:kontakt@bibellabor.at
END:VEVENT
BEGIN:VEVENT
DTSTART;TZID=Europe/Vienna:20230421T190000
DTEND;TZID=Europe/Vienna:20230421T203000
DTSTAMP:20260426T053001
CREATED:20230127T053135Z
LAST-MODIFIED:20230307T064601Z
UID:10000060-1682103600-1682109000@bibellabor.at
SUMMARY:Bibel quer-lesen: Die Erneute Prüfung der Brüder
DESCRIPTION:Die Söhne Jakobs werden zu den Stammvätern des Volkes Israel. Es ist weit mehr als eine Familiengeschichte. Die Erzählung thematisiert Verletzungen\, Spannungen\, Konflikte\, Versäumnisse\, Traumata und Versöhnung in den Beziehungen einer Familie. Eine besondere Stärke der Erzählung sind die verborgenen Spuren des Wirkens Gottes. Er hat Pläne des Heils und nicht des Unheils.\n\nNeben vielen Themen\, die Geschwisterbeziehungen betreffen\, hat die Erzählung von Josef (Genesis 37\,1 – 47\,26) großen Einfluss auf das biblische Gottesverständnis. \nBei diesem Treffen beschäftigen wir uns mit dem Thema: Die erneute Prüfung der Brüder aus Gen 44\,1-34.
URL:https://bibellabor.at/event/bibel-quer-lesen-die-erneute-pruefung-der-brueder/
LOCATION:Haus der Frohbotschaft\, Mädlegasse 6a\, Dornbirn\, 6850\, Österreich
ATTACH;FMTTYPE=image/jpeg:https://bibellabor.at/wp-content/uploads/2022/06/P1030997.jpg
ORGANIZER;CN="Erich Baldauf":MAILTO:kontakt@bibellabor.at
END:VEVENT
BEGIN:VEVENT
DTSTART;TZID=Europe/Vienna:20230324T190000
DTEND;TZID=Europe/Vienna:20230324T203000
DTSTAMP:20260426T053001
CREATED:20230307T065259Z
LAST-MODIFIED:20230307T065259Z
UID:10000005-1679684400-1679689800@bibellabor.at
SUMMARY:Bibel quer-lesen: Zweite Reise der Brüder
DESCRIPTION:Die Söhne Jakobs werden zu den Stammvätern des Volkes Israel. Es ist weit mehr als eine Familiengeschichte. Die Erzählung thematisiert Verletzungen\, Spannungen\, Konflikte\, Versäumnisse\, Traumata und Versöhnung in den Beziehungen einer Familie. Eine besondere Stärke der Erzählung sind die verborgenen Spuren des Wirkens Gottes. Er hat Pläne des Heils und nicht des Unheils.\n\nNeben vielen Themen\, die Geschwisterbeziehungen betreffen\, hat die Erzählung von Josef (Genesis 37\,1 – 47\,26) großen Einfluss auf das biblische Gottesverständnis. \nBei diesem Treffen beschäftigen wir uns mit dem Thema: Zweite Reise der Brüder aus Gen 43\,1-34.
URL:https://bibellabor.at/event/bibel-quer-lesen-zweite-reise-der-brueder/
LOCATION:Haus der Frohbotschaft\, Mädlegasse 6a\, Dornbirn\, 6850\, Österreich
ATTACH;FMTTYPE=image/jpeg:https://bibellabor.at/wp-content/uploads/2022/06/P1030997.jpg
ORGANIZER;CN="Erich Baldauf":MAILTO:kontakt@bibellabor.at
END:VEVENT
BEGIN:VEVENT
DTSTART;TZID=Europe/Vienna:20230224T190000
DTEND;TZID=Europe/Vienna:20230224T210000
DTSTAMP:20260426T053001
CREATED:20220623T105138Z
LAST-MODIFIED:20220708T080807Z
UID:10000030-1677265200-1677272400@bibellabor.at
SUMMARY:Bibel quer-lesen: Erste Reise der Brüder
DESCRIPTION:Die Söhne Jakobs werden zu den Stammvätern des Volkes Israel. Es ist weit mehr als eine Familiengeschichte. Die Erzählung thematisiert Verletzungen\, Spannungen\, Konflikte\, Versäumnisse\, Traumata und Versöhnung in den Beziehungen einer Familie. Eine besondere Stärke der Erzählung sind die verborgenen Spuren des Wirkens Gottes. Er hat Pläne des Heils und nicht des Unheils. \nNeben vielen Themen\, die Geschwisterbeziehungen betreffen\, hat die Erzählung von Josef (Genesis 37\,1 – 47\,26) großen Einfluss auf das biblische Gottesverständnis. \nBei diesem Treffen beschäftigen wir uns mit dem Thema: Erste Reise der Brüder aus Gen 42\,1-38.
URL:https://bibellabor.at/event/bibel-quer-lesen-erste-reise-der-brueder/
LOCATION:Haus der Frohbotschaft\, Mädlegasse 6a\, Dornbirn\, 6850\, Österreich
ATTACH;FMTTYPE=image/jpeg:https://bibellabor.at/wp-content/uploads/2022/06/P1030997.jpg
ORGANIZER;CN="Erich Baldauf":MAILTO:kontakt@bibellabor.at
END:VEVENT
BEGIN:VEVENT
DTSTART;TZID=Europe/Vienna:20230113T190000
DTEND;TZID=Europe/Vienna:20230113T210000
DTSTAMP:20260426T053001
CREATED:20220623T104958Z
LAST-MODIFIED:20220708T081256Z
UID:10000043-1673636400-1673643600@bibellabor.at
SUMMARY:Bibel quer-lesen: Die Träume des Pharao
DESCRIPTION:Die Söhne Jakobs werden zu den Stammvätern des Volkes Israel. Es ist weit mehr als eine Familiengeschichte. Die Erzählung thematisiert Verletzungen\, Spannungen\, Konflikte\, Versäumnisse\, Traumata und Versöhnung in den Beziehungen einer Familie. Eine besondere Stärke der Erzählung sind die verborgenen Spuren des Wirkens Gottes. Er hat Pläne des Heils und nicht des Unheils. \nNeben vielen Themen\, die Geschwisterbeziehungen betreffen\, hat die Erzählung von Josef (Genesis 37\,1 – 47\,26) großen Einfluss auf das biblische Gottesverständnis. \nBei diesem Treffen beschäftigen wir uns mit dem Thema: Die Träume des Pharao aus Gen 41\,1-36.
URL:https://bibellabor.at/event/bibel-quer-lesen-die-traeume-des-pharao/
LOCATION:Haus der Frohbotschaft\, Mädlegasse 6a\, Dornbirn\, 6850\, Österreich
ATTACH;FMTTYPE=image/jpeg:https://bibellabor.at/wp-content/uploads/2022/06/P1030997.jpg
ORGANIZER;CN="Erich Baldauf":MAILTO:kontakt@bibellabor.at
END:VEVENT
BEGIN:VEVENT
DTSTART;TZID=Europe/Vienna:20221209T190000
DTEND;TZID=Europe/Vienna:20221209T210000
DTSTAMP:20260426T053001
CREATED:20220623T104820Z
LAST-MODIFIED:20220708T081650Z
UID:10000008-1670612400-1670619600@bibellabor.at
SUMMARY:Bibel quer-lesen: Zwischen Leben und Tod wählen
DESCRIPTION:Die Söhne Jakobs werden zu den Stammvätern des Volkes Israel. Es ist weit mehr als eine Familiengeschichte. Die Erzählung thematisiert Verletzungen\, Spannungen\, Konflikte\, Versäumnisse\, Traumata und Versöhnung in den Beziehungen einer Familie. Eine besondere Stärke der Erzählung sind die verborgenen Spuren des Wirkens Gottes. Er hat Pläne des Heils und nicht des Unheils. \nNeben vielen Themen\, die Geschwisterbeziehungen betreffen\, hat die Erzählung von Josef (Genesis 37\,1 – 47\,26) großen Einfluss auf das biblische Gottesverständnis. \nBei diesem Treffen beschäftigen wir uns mit dem Thema: Zwischen Leben und Tod wählen aus Gen 39\,22 – 40\,23.
URL:https://bibellabor.at/event/bibel-quer-lesen-zwischen-leben-und-tod-waehlen/
LOCATION:Haus der Frohbotschaft\, Mädlegasse 6a\, Dornbirn\, 6850\, Österreich
ATTACH;FMTTYPE=image/jpeg:https://bibellabor.at/wp-content/uploads/2022/06/P1030997.jpg
ORGANIZER;CN="Erich Baldauf":MAILTO:kontakt@bibellabor.at
END:VEVENT
BEGIN:VEVENT
DTSTART;TZID=Europe/Vienna:20221118T190000
DTEND;TZID=Europe/Vienna:20221118T210000
DTSTAMP:20260426T053001
CREATED:20220623T104629Z
LAST-MODIFIED:20220623T113140Z
UID:10000009-1668798000-1668805200@bibellabor.at
SUMMARY:Bibel quer-lesen: Josef im Haus des Potifar
DESCRIPTION:Die Söhne Jakobs werden zu den Stammvätern des Volkes Israel. Es ist weit mehr als eine Familiengeschichte. Die Erzählung thematisiert Verletzungen\, Spannungen\, Konflikte\, Versäumnisse\, Traumata und Versöhnung in den Beziehungen einer Familie. Eine besondere Stärke der Erzählung sind die verborgenen Spuren des Wirkens Gottes. Er hat Pläne des Heils und nicht des Unheils. \nNeben vielen Themen\, die Geschwisterbeziehungen betreffen\, hat die Erzählung von Josef (Genesis 37\,1 – 47\,26) großen Einfluss auf das biblische Gottesverständnis. \nBei diesem Treffen beschäftigen wir uns mit dem Thema: Josef im Haus des Potifar aus Gen 39\,1-21.
URL:https://bibellabor.at/event/bibel-quer-lesen-josef-im-haus-des-potifar/
LOCATION:Haus der Frohbotschaft\, Mädlegasse 6a\, Dornbirn\, 6850\, Österreich
ATTACH;FMTTYPE=image/jpeg:https://bibellabor.at/wp-content/uploads/2022/06/P1030997.jpg
ORGANIZER;CN="Erich Baldauf":MAILTO:kontakt@bibellabor.at
END:VEVENT
BEGIN:VEVENT
DTSTART;TZID=Europe/Vienna:20221014T190000
DTEND;TZID=Europe/Vienna:20221014T210000
DTSTAMP:20260426T053001
CREATED:20220623T104432Z
LAST-MODIFIED:20220623T113210Z
UID:10000010-1665774000-1665781200@bibellabor.at
SUMMARY:Bibel quer-lesen: Judas Auszeit
DESCRIPTION:Die Söhne Jakobs werden zu den Stammvätern des Volkes Israel. Es ist weit mehr als eine Familiengeschichte. Die Erzählung thematisiert Verletzungen\, Spannungen\, Konflikte\, Versäumnisse\, Traumata und Versöhnung in den Beziehungen einer Familie. Eine besondere Stärke der Erzählung sind die verborgenen Spuren des Wirkens Gottes. Er hat Pläne des Heils und nicht des Unheils. \nNeben vielen Themen\, die Geschwisterbeziehungen betreffen\, hat die Erzählung von Josef (Genesis 37\,1 – 47\,26) großen Einfluss auf das biblische Gottesverständnis. \nBei diesem Treffen beschäftigen wir uns mit dem Thema: Judas Auszeit aus Gen 38\,1-10.
URL:https://bibellabor.at/event/bibel-quer-lesen-judas-auszeit/
LOCATION:Haus der Frohbotschaft\, Mädlegasse 6a\, Dornbirn\, 6850\, Österreich
ATTACH;FMTTYPE=image/jpeg:https://bibellabor.at/wp-content/uploads/2022/06/P1030997.jpg
ORGANIZER;CN="Erich Baldauf":MAILTO:kontakt@bibellabor.at
END:VEVENT
BEGIN:VEVENT
DTSTART;TZID=Europe/Vienna:20220930T190000
DTEND;TZID=Europe/Vienna:20220930T210000
DTSTAMP:20260426T053001
CREATED:20220623T103745Z
LAST-MODIFIED:20220623T113315Z
UID:10000011-1664564400-1664571600@bibellabor.at
SUMMARY:Bibel quer-lesen: Hass unter Geschwistern
DESCRIPTION:Die Söhne Jakobs werden zu den Stammvätern des Volkes Israel. Es ist weit mehr als eine Familiengeschichte. Die Erzählung thematisiert Verletzungen\, Spannungen\, Konflikte\, Versäumnisse\, Traumata und Versöhnung in den Beziehungen einer Familie. Eine besondere Stärke der Erzählung sind die verborgenen Spuren des Wirkens Gottes. Er hat Pläne des Heils und nicht des Unheils. \nNeben vielen Themen\, die Geschwisterbeziehungen betreffen\, hat die Erzählung von Josef (Genesis 37\,1 – 47\,26) großen Einfluss auf das biblische Gottesverständnis. \nBei diesem Treffen beschäftigen wir uns mit dem Thema: Hass unter Geschwistern – Verkauf des Bruders aus Gen 37\,1-36.
URL:https://bibellabor.at/event/bibel-quer-lesen-hass-unter-geschwistern/
LOCATION:Haus der Frohbotschaft\, Mädlegasse 6a\, Dornbirn\, 6850\, Österreich
ATTACH;FMTTYPE=image/jpeg:https://bibellabor.at/wp-content/uploads/2022/06/P1030997.jpg
ORGANIZER;CN="Erich Baldauf":MAILTO:kontakt@bibellabor.at
END:VEVENT
BEGIN:VEVENT
DTSTART;TZID=Europe/Vienna:20220624T190000
DTEND;TZID=Europe/Vienna:20220624T210000
DTSTAMP:20260426T053001
CREATED:20220406T133426Z
LAST-MODIFIED:20220406T133426Z
UID:10000014-1656097200-1656104400@bibellabor.at
SUMMARY:Bibel quer-lesen: Einige der Besonderheiten des Evangelisten Lukas
DESCRIPTION:Schwerpunktmäßig hören wir in diesem Jahr an den Sonntagen Texte aus dem Lukas Evangelium. Bei ihm entsteht der Eindruck\, dass er in der Verkündigung großen Wert auf die Ausgewogenheit von Frauen und Männern legt. Er will sie in gleicher Weise einbinden und ansprechen. Ferner weist Lukas immer wieder auf die große Tradition hin\, in der Glaubende stehen. Sie zeugt von der Treue Gottes über Generationen und Jahrhunderte hinweg. Lukas zeigt ein besonderes Interesse für das Schicksal der „kleinen Leute“. \n  \n\n\n\n22. April 2022\nVerlorenes suchen und finden\nLk 15\,1-32\n\n\n27. Mai 2022\nBeten\nLk 18\, 1 – 14\n\n\n24. Juni 2022\nPassion und Ostern\nLk 23\,50-55Lk 24-1-11
URL:https://bibellabor.at/event/bibel-quer-lesen-einige-der-besonderheiten-des-evangelisten-lukas/2022-06-24/
LOCATION:Haus der Frohbotschaft\, Mädlegasse 6a\, Dornbirn\, 6850\, Österreich
ORGANIZER;CN="Erich Baldauf":MAILTO:kontakt@bibellabor.at
END:VEVENT
BEGIN:VEVENT
DTSTART;TZID=Europe/Vienna:20220527T190000
DTEND;TZID=Europe/Vienna:20220527T210000
DTSTAMP:20260426T053001
CREATED:20220406T133426Z
LAST-MODIFIED:20220406T133426Z
UID:10000013-1653678000-1653685200@bibellabor.at
SUMMARY:Bibel quer-lesen: Einige der Besonderheiten des Evangelisten Lukas
DESCRIPTION:Schwerpunktmäßig hören wir in diesem Jahr an den Sonntagen Texte aus dem Lukas Evangelium. Bei ihm entsteht der Eindruck\, dass er in der Verkündigung großen Wert auf die Ausgewogenheit von Frauen und Männern legt. Er will sie in gleicher Weise einbinden und ansprechen. Ferner weist Lukas immer wieder auf die große Tradition hin\, in der Glaubende stehen. Sie zeugt von der Treue Gottes über Generationen und Jahrhunderte hinweg. Lukas zeigt ein besonderes Interesse für das Schicksal der „kleinen Leute“. \n  \n\n\n\n22. April 2022\nVerlorenes suchen und finden\nLk 15\,1-32\n\n\n27. Mai 2022\nBeten\nLk 18\, 1 – 14\n\n\n24. Juni 2022\nPassion und Ostern\nLk 23\,50-55Lk 24-1-11
URL:https://bibellabor.at/event/bibel-quer-lesen-einige-der-besonderheiten-des-evangelisten-lukas/2022-05-27/
LOCATION:Haus der Frohbotschaft\, Mädlegasse 6a\, Dornbirn\, 6850\, Österreich
ORGANIZER;CN="Erich Baldauf":MAILTO:kontakt@bibellabor.at
END:VEVENT
BEGIN:VEVENT
DTSTART;TZID=Europe/Vienna:20220422T190000
DTEND;TZID=Europe/Vienna:20220422T210000
DTSTAMP:20260426T053001
CREATED:20220406T133426Z
LAST-MODIFIED:20220406T133426Z
UID:10000012-1650654000-1650661200@bibellabor.at
SUMMARY:Bibel quer-lesen: Einige der Besonderheiten des Evangelisten Lukas
DESCRIPTION:Schwerpunktmäßig hören wir in diesem Jahr an den Sonntagen Texte aus dem Lukas Evangelium. Bei ihm entsteht der Eindruck\, dass er in der Verkündigung großen Wert auf die Ausgewogenheit von Frauen und Männern legt. Er will sie in gleicher Weise einbinden und ansprechen. Ferner weist Lukas immer wieder auf die große Tradition hin\, in der Glaubende stehen. Sie zeugt von der Treue Gottes über Generationen und Jahrhunderte hinweg. Lukas zeigt ein besonderes Interesse für das Schicksal der „kleinen Leute“. \n  \n\n\n\n22. April 2022\nVerlorenes suchen und finden\nLk 15\,1-32\n\n\n27. Mai 2022\nBeten\nLk 18\, 1 – 14\n\n\n24. Juni 2022\nPassion und Ostern\nLk 23\,50-55Lk 24-1-11
URL:https://bibellabor.at/event/bibel-quer-lesen-einige-der-besonderheiten-des-evangelisten-lukas/2022-04-22/
LOCATION:Haus der Frohbotschaft\, Mädlegasse 6a\, Dornbirn\, 6850\, Österreich
ORGANIZER;CN="Erich Baldauf":MAILTO:kontakt@bibellabor.at
END:VEVENT
END:VCALENDAR