BEGIN:VCALENDAR
VERSION:2.0
PRODID:-//Bibellabor - ECPv6.15.20//NONSGML v1.0//EN
CALSCALE:GREGORIAN
METHOD:PUBLISH
X-WR-CALNAME:Bibellabor
X-ORIGINAL-URL:https://bibellabor.at
X-WR-CALDESC:Veranstaltungen für Bibellabor
REFRESH-INTERVAL;VALUE=DURATION:PT1H
X-Robots-Tag:noindex
X-PUBLISHED-TTL:PT1H
BEGIN:VTIMEZONE
TZID:Europe/Vienna
BEGIN:DAYLIGHT
TZOFFSETFROM:+0100
TZOFFSETTO:+0200
TZNAME:CEST
DTSTART:20250330T010000
END:DAYLIGHT
BEGIN:STANDARD
TZOFFSETFROM:+0200
TZOFFSETTO:+0100
TZNAME:CET
DTSTART:20251026T010000
END:STANDARD
BEGIN:DAYLIGHT
TZOFFSETFROM:+0100
TZOFFSETTO:+0200
TZNAME:CEST
DTSTART:20260329T010000
END:DAYLIGHT
BEGIN:STANDARD
TZOFFSETFROM:+0200
TZOFFSETTO:+0100
TZNAME:CET
DTSTART:20261025T010000
END:STANDARD
BEGIN:DAYLIGHT
TZOFFSETFROM:+0100
TZOFFSETTO:+0200
TZNAME:CEST
DTSTART:20270328T010000
END:DAYLIGHT
BEGIN:STANDARD
TZOFFSETFROM:+0200
TZOFFSETTO:+0100
TZNAME:CET
DTSTART:20271031T010000
END:STANDARD
END:VTIMEZONE
BEGIN:VEVENT
DTSTART;VALUE=DATE:20260920
DTEND;VALUE=DATE:20260928
DTSTAMP:20260426T034833
CREATED:20260425T072805Z
LAST-MODIFIED:20260425T072852Z
UID:10000263-1789862400-1790553599@bibellabor.at
SUMMARY:Jordanien erleben - Glauben vertiefen\, Geschichte entdecken
DESCRIPTION:Als Land vieler biblischer Orte empfängt Jordanien Gäste aus aller Welt mit großer Offenheit und Respekt. Sicherheit\, Stabilität und herzliche Gastfreundschaft bilden den Rahmen für eine Reise\, auf der Glauben\, Begegnung und Vertrauen im Mittelpunkt stehen. Zwischen dem Jordan\, der Wüste Wadi Rum und der antiken Stadt Petra öffnet sich ein Land\, das seit Jahrtausenden Menschen verbindet. Jordanien begeistert mit reicher Geschichte und beeindruckender Natur. Unsere Reise führt zu bedeutenden Stätten und bietet zugleich Raum für Begegnung und Verständnis. \n  \nDetails zur Reise können Sie hier: Jordanien200926_Flyer lesen.
URL:https://bibellabor.at/event/jordanien-erleben-glauben-vertiefen-geschichte-entdecken/
LOCATION:Jordanien\, Jordan
ATTACH;FMTTYPE=image/jpeg:https://bibellabor.at/wp-content/uploads/2026/04/P3060169-scaled.jpg
ORGANIZER;CN="Herburger Reisen":MAILTO:schwefel@herburger-reisen.at
END:VEVENT
END:VCALENDAR